BEGIN:VCALENDAR
VERSION:2.0
PRODID:-//Southern Arizona American Guild of Organists - ECPv6.15.20//NONSGML v1.0//EN
CALSCALE:GREGORIAN
METHOD:PUBLISH
X-WR-CALNAME:Southern Arizona American Guild of Organists
X-ORIGINAL-URL:https://saago.org
X-WR-CALDESC:Events for Southern Arizona American Guild of Organists
REFRESH-INTERVAL;VALUE=DURATION:PT1H
X-Robots-Tag:noindex
X-PUBLISHED-TTL:PT1H
BEGIN:VTIMEZONE
TZID:America/Phoenix
BEGIN:STANDARD
TZOFFSETFROM:-0700
TZOFFSETTO:-0700
TZNAME:MST
DTSTART:20240101T000000
END:STANDARD
END:VTIMEZONE
BEGIN:VEVENT
DTSTART;TZID=America/Phoenix:20250822T190000
DTEND;TZID=America/Phoenix:20250822T210000
DTSTAMP:20260423T203433
CREATED:20250805T161941Z
LAST-MODIFIED:20250805T162504Z
UID:4733-1755889200-1755896400@saago.org
SUMMARY:Attila Ádám Honti in Concert at St. Andrew's Sierra Vista
DESCRIPTION:The St. Andrew’s Concert Series is pleased to welcome Attila Adam Honti\, organist and choirmaster of the Svenska krykan Swedish Lutheran Church in Nordanstig\, Sweden. This is a once-in-a-lifetime-time concert.  Mr. Honti has given concerts all over the world\, and has a unique background that will be wonderful to share with concert-goers. \nHe will be performing music of J.S. Bach\, Cesar Frank\, Lefebure-Wely and several newer works by a number of contemporary Scandinavian composers on the historic 1949 Moeller pipe organ\, the largest in Cochise County.
URL:https://saago.org/event/attila-adam-honti-in-concert-at-st-andrews-sierra-vista/
LOCATION:St. Andrew the Apostle Roman Catholic Church\, 800 Taylor Street\, Sierra Vista\, AZ\, 85635\, United States
END:VEVENT
END:VCALENDAR