BEGIN:VCALENDAR
VERSION:2.0
PRODID:-//Southern Arizona American Guild of Organists - ECPv6.15.20//NONSGML v1.0//EN
CALSCALE:GREGORIAN
METHOD:PUBLISH
X-ORIGINAL-URL:https://saago.org
X-WR-CALDESC:Events for Southern Arizona American Guild of Organists
REFRESH-INTERVAL;VALUE=DURATION:PT1H
X-Robots-Tag:noindex
X-PUBLISHED-TTL:PT1H
BEGIN:VTIMEZONE
TZID:America/Phoenix
BEGIN:STANDARD
TZOFFSETFROM:-0700
TZOFFSETTO:-0700
TZNAME:MST
DTSTART:20240101T000000
END:STANDARD
END:VTIMEZONE
BEGIN:VEVENT
DTSTART;TZID=America/Phoenix:20251004T150000
DTEND;TZID=America/Phoenix:20251004T170000
DTSTAMP:20260419T100815
CREATED:20250928T153544Z
LAST-MODIFIED:20250928T153702Z
UID:4859-1759590000-1759597200@saago.org
SUMMARY:Saint Philip's In The Hills Rising Stars Concert Series Presents - Jacqueline & Scarlett Stewart In Concert
DESCRIPTION:
URL:https://saago.org/event/saint-philips-in-the-hills-rising-stars-concert-series-presents-jacqueline-scarlett-stewart-in-concert/
LOCATION:Saint Philip’s In The Hills Episcopal Church\, 4440 N Campbell Ave\, Tucson\, AZ\, 85728\, United States
END:VEVENT
END:VCALENDAR