BEGIN:VCALENDAR
VERSION:2.0
PRODID:-//Southern Arizona American Guild of Organists - ECPv6.15.20//NONSGML v1.0//EN
CALSCALE:GREGORIAN
METHOD:PUBLISH
X-WR-CALNAME:Southern Arizona American Guild of Organists
X-ORIGINAL-URL:https://saago.org
X-WR-CALDESC:Events for Southern Arizona American Guild of Organists
REFRESH-INTERVAL;VALUE=DURATION:PT1H
X-Robots-Tag:noindex
X-PUBLISHED-TTL:PT1H
BEGIN:VTIMEZONE
TZID:America/Phoenix
BEGIN:STANDARD
TZOFFSETFROM:-0700
TZOFFSETTO:-0700
TZNAME:MST
DTSTART:20240101T000000
END:STANDARD
END:VTIMEZONE
BEGIN:VEVENT
DTSTART;TZID=America/Phoenix:20251031T193000
DTEND;TZID=America/Phoenix:20251031T220000
DTSTAMP:20260419T082858
CREATED:20251014T192315Z
LAST-MODIFIED:20251014T192640Z
UID:4910-1761939000-1761948000@saago.org
SUMMARY:A Spooktacular Halloween Evening @ The Fox Theatre! (10/31/25)
DESCRIPTION:
URL:https://saago.org/event/a-spooktacular-halloween-evening-the-fox-theatre-10-31-25/
LOCATION:FOX THEATER\, 17 West Congress Street\, Tucson\, Arizona\, 85701
END:VEVENT
END:VCALENDAR