BEGIN:VCALENDAR
VERSION:2.0
PRODID:-//Southern Arizona American Guild of Organists - ECPv6.15.20//NONSGML v1.0//EN
CALSCALE:GREGORIAN
METHOD:PUBLISH
X-ORIGINAL-URL:https://saago.org
X-WR-CALDESC:Events for Southern Arizona American Guild of Organists
REFRESH-INTERVAL;VALUE=DURATION:PT1H
X-Robots-Tag:noindex
X-PUBLISHED-TTL:PT1H
BEGIN:VTIMEZONE
TZID:America/Phoenix
BEGIN:STANDARD
TZOFFSETFROM:-0700
TZOFFSETTO:-0700
TZNAME:MST
DTSTART:20240101T000000
END:STANDARD
END:VTIMEZONE
BEGIN:VEVENT
DTSTART;TZID=America/Phoenix:20251101T183000
DTEND;TZID=America/Phoenix:20251101T203000
DTSTAMP:20260419T083351
CREATED:20251010T161735Z
LAST-MODIFIED:20251022T163929Z
UID:4894-1762021800-1762029000@saago.org
SUMMARY:A Candlelight Concert for All Saints Day: Music of Remembrance and Hope
DESCRIPTION:
URL:https://saago.org/event/a-candlelight-concert-for-all-saints-day-music-of-remembrance-and-hope/
LOCATION:Trinity Presbyterian Church\, 400 E. University Blvd.\, Tucson\, Arizona
END:VEVENT
END:VCALENDAR