BEGIN:VCALENDAR
VERSION:2.0
PRODID:-//Southern Arizona American Guild of Organists - ECPv6.15.20//NONSGML v1.0//EN
CALSCALE:GREGORIAN
METHOD:PUBLISH
X-WR-CALNAME:Southern Arizona American Guild of Organists
X-ORIGINAL-URL:https://saago.org
X-WR-CALDESC:Events for Southern Arizona American Guild of Organists
REFRESH-INTERVAL;VALUE=DURATION:PT1H
X-Robots-Tag:noindex
X-PUBLISHED-TTL:PT1H
BEGIN:VTIMEZONE
TZID:America/Phoenix
BEGIN:STANDARD
TZOFFSETFROM:-0700
TZOFFSETTO:-0700
TZNAME:MST
DTSTART:20240101T000000
END:STANDARD
END:VTIMEZONE
BEGIN:VEVENT
DTSTART;TZID=America/Phoenix:20251107T190000
DTEND;TZID=America/Phoenix:20251107T213000
DTSTAMP:20260419T082851
CREATED:20251012T170848Z
LAST-MODIFIED:20251022T163822Z
UID:4902-1762542000-1762551000@saago.org
SUMMARY:SAAGO's Annual Member Showcase Concert
DESCRIPTION:
URL:https://saago.org/event/saagos-annual-member-showcase-concert/
LOCATION:St. Philip’s in the Hills Episcopal Church\, 4440 N. Campbell Ave.\, Tucson\, Arizona\, 85728
END:VEVENT
END:VCALENDAR