BEGIN:VCALENDAR
VERSION:2.0
PRODID:-//Southern Arizona American Guild of Organists - ECPv6.15.20//NONSGML v1.0//EN
CALSCALE:GREGORIAN
METHOD:PUBLISH
X-WR-CALNAME:Southern Arizona American Guild of Organists
X-ORIGINAL-URL:https://saago.org
X-WR-CALDESC:Events for Southern Arizona American Guild of Organists
REFRESH-INTERVAL;VALUE=DURATION:PT1H
X-Robots-Tag:noindex
X-PUBLISHED-TTL:PT1H
BEGIN:VTIMEZONE
TZID:America/Phoenix
BEGIN:STANDARD
TZOFFSETFROM:-0700
TZOFFSETTO:-0700
TZNAME:MST
DTSTART:20240101T000000
END:STANDARD
END:VTIMEZONE
BEGIN:VEVENT
DTSTART;TZID=America/Phoenix:20251221T100000
DTEND;TZID=America/Phoenix:20251221T111500
DTSTAMP:20260419T065342
CREATED:20251207T163636Z
LAST-MODIFIED:20251207T163843Z
UID:5054-1766311200-1766315700@saago.org
SUMMARY:Candles and Carols Christmas Cantata @ Trinity Presbyterian Church
DESCRIPTION:Trinity Presbyterian Church\n400 E. University Blvd\nTucson\, Arizona\npresents…\nCandles and Carols Christmas Cantata\nSunday\, December 21\, 10:20 a.m. \nThe Trinity Presbyterian Church Choir and Orchestra present the cantata “Candles and Carols” with music by Mark Hayes and text by Pamela Martin.\nThe cantata and mini-concerts may be watched in person at 400 E. University Blvd. or on Trinity’s website at trinitytucson.org.
URL:https://saago.org/event/candles-and-carols-christmas-cantata-trinity-presbyterian-church/
LOCATION:Trinity Presbyterian Church\, 400 E. University Blvd.\, Tucson\, Arizona
END:VEVENT
BEGIN:VEVENT
DTSTART;TZID=America/Phoenix:20251221T113000
DTEND;TZID=America/Phoenix:20251221T120000
DTSTAMP:20260419T065342
CREATED:20251127T143625Z
LAST-MODIFIED:20251127T143625Z
UID:5043-1766316600-1766318400@saago.org
SUMMARY:Advent Mini Concerts at Trinity Presbyterian Church
DESCRIPTION:Sunday\, 11:30 a.m. \nTrinity Presbyterian Church\n400 E. University Blvd.\nTucson\, Arizona \nDecember 21\, The Agave Winds – woodwind quintet \nThe programs of seasonal music last approximately 20 minutes.
URL:https://saago.org/event/advent-mini-concerts-at-trinity-presbyterian-church-3/
LOCATION:Trinity Presbyterian Church\, 400 E. University Blvd.\, Tucson\, Arizona
END:VEVENT
BEGIN:VEVENT
DTSTART;TZID=America/Phoenix:20251221T163000
DTEND;TZID=America/Phoenix:20251221T173000
DTSTAMP:20260419T065342
CREATED:20251207T164641Z
LAST-MODIFIED:20251207T164641Z
UID:5056-1766334600-1766338200@saago.org
SUMMARY:Service of Lessons & Carols
DESCRIPTION:Saint Philip’s In The Hills Episcopal Church\n4440 N Campbell Ave\nTucson\, Arizona \nJoin us at 4:30 PM on 12/21/2025 for a service filled with Lessons & Carols.
URL:https://saago.org/event/service-of-lessons-carols/
LOCATION:St. Philip’s in the Hills Episcopal Church\, 4440 N. Campbell Ave.\, Tucson\, Arizona\, 85728
END:VEVENT
BEGIN:VEVENT
DTSTART;TZID=America/Phoenix:20251221T190000
DTEND;TZID=America/Phoenix:20251221T210000
DTSTAMP:20260419T065342
CREATED:20251219T171205Z
LAST-MODIFIED:20251219T172655Z
UID:5069-1766343600-1766350800@saago.org
SUMMARY:St. Andrew the Apostle Church Presents - Handel's Messiah on Dec. 21
DESCRIPTION:We have two soloists from Tucson this year: Diana Peralta and Michael Jackson.
URL:https://saago.org/event/st-andrew-the-apostle-church-presents-handels-messiah-on-dec-21/
LOCATION:St. Andrew the Apostle Roman Catholic Church\, 800 Taylor Street\, Sierra Vista\, AZ\, 85635\, United States
END:VEVENT
END:VCALENDAR