BEGIN:VCALENDAR
VERSION:2.0
PRODID:-//Southern Arizona American Guild of Organists - ECPv6.15.20//NONSGML v1.0//EN
CALSCALE:GREGORIAN
METHOD:PUBLISH
X-ORIGINAL-URL:https://saago.org
X-WR-CALDESC:Events for Southern Arizona American Guild of Organists
REFRESH-INTERVAL;VALUE=DURATION:PT1H
X-Robots-Tag:noindex
X-PUBLISHED-TTL:PT1H
BEGIN:VTIMEZONE
TZID:America/Phoenix
BEGIN:STANDARD
TZOFFSETFROM:-0700
TZOFFSETTO:-0700
TZNAME:MST
DTSTART:20240101T000000
END:STANDARD
END:VTIMEZONE
BEGIN:VEVENT
DTSTART;TZID=America/Phoenix:20251224T180000
DTEND;TZID=America/Phoenix:20251224T210000
DTSTAMP:20260419T065641
CREATED:20251207T165310Z
LAST-MODIFIED:20251207T165310Z
UID:5058-1766599200-1766610000@saago.org
SUMMARY:Christmas Eve Service @ Northminster Presbyterian Church
DESCRIPTION:Christmas Eve\nNorthminster Presbyterian Church\n2450 E Fort Lowell Rd\nTucson\, Arizona \nThe traditional Christmas Eve Candlelight service of worship at 7 p.m. is preceded by an organ recital performed by John T. Brobeck\, organist and director of music.
URL:https://saago.org/event/christmas-eve-service-northminster-presbyterian-church/
LOCATION:Northminster Presbyterian Church\, 2450 E. Fort Lowell Rd.\, Tucson\, AZ\, 85719\, United States
END:VEVENT
BEGIN:VEVENT
DTSTART;TZID=America/Phoenix:20251224T190000
DTEND;TZID=America/Phoenix:20251224T233000
DTSTAMP:20260419T065641
CREATED:20251207T165852Z
LAST-MODIFIED:20251207T165852Z
UID:5061-1766602800-1766619000@saago.org
SUMMARY:Christmas Eve: Missa ad Praesepe @ St. Philip's In The Hills Episcopal Church
DESCRIPTION:St. Philip’s In The Hills Episcopal Church\n4440 N Campbell Ave\nTucson\, Arizona\nDecember 24\, 7 pm and 10 p.m. \nThe Choir of Saint Philip’s sings the wonderful mass by the British 20ᵗʰ century organist and composer George Malcolm\, a musical offering which has now become a Christmas tradition at Saint Philip’s. \nThe charming simplicity of much of this music underscores the title “Mass at the Crib. The ensemble in-residence\, Monsoon Brass\, will lead in the hymns and carols of the season.
URL:https://saago.org/event/christmas-eve-missa-ad-praesepe-st-philips-in-the-hills-episcopal-church/
LOCATION:St. Philip’s in the Hills Episcopal Church\, 4440 N. Campbell Ave.\, Tucson\, Arizona\, 85728
END:VEVENT
END:VCALENDAR