BEGIN:VCALENDAR
VERSION:2.0
PRODID:-//Southern Arizona American Guild of Organists - ECPv6.15.20//NONSGML v1.0//EN
CALSCALE:GREGORIAN
METHOD:PUBLISH
X-ORIGINAL-URL:https://saago.org
X-WR-CALDESC:Events for Southern Arizona American Guild of Organists
REFRESH-INTERVAL;VALUE=DURATION:PT1H
X-Robots-Tag:noindex
X-PUBLISHED-TTL:PT1H
BEGIN:VTIMEZONE
TZID:America/Phoenix
BEGIN:STANDARD
TZOFFSETFROM:-0700
TZOFFSETTO:-0700
TZNAME:MST
DTSTART:20240101T000000
END:STANDARD
END:VTIMEZONE
BEGIN:VEVENT
DTSTART;TZID=America/Phoenix:20251004T150000
DTEND;TZID=America/Phoenix:20251004T170000
DTSTAMP:20260419T083352
CREATED:20250928T153544Z
LAST-MODIFIED:20250928T153702Z
UID:4859-1759590000-1759597200@saago.org
SUMMARY:Saint Philip's In The Hills Rising Stars Concert Series Presents - Jacqueline & Scarlett Stewart In Concert
DESCRIPTION:
URL:https://saago.org/event/saint-philips-in-the-hills-rising-stars-concert-series-presents-jacqueline-scarlett-stewart-in-concert/
LOCATION:Saint Philip’s In The Hills Episcopal Church\, 4440 N Campbell Ave\, Tucson\, AZ\, 85728\, United States
END:VEVENT
BEGIN:VEVENT
DTSTART;TZID=America/Phoenix:20251011T100000
DTEND;TZID=America/Phoenix:20251011T130000
DTSTAMP:20260419T083352
CREATED:20250922T161239Z
LAST-MODIFIED:20250922T162739Z
UID:4835-1760176800-1760187600@saago.org
SUMMARY:Pipe Organs of the Gadsden Purchase
DESCRIPTION:presented by \nProfessor Emeritus\, David Gay & Stan Kartchner\nSaturday\, October 11\, 10 a.m.\nNorthminster Presbyterian Church\n2450 E. Fort Lowell Rd\nLunch follows\n \n \nIn 1854 the United States bought from Mexico the lower 100 miles of what is now the State of Arizona. It was called the Gadsden Purchase after the congressman who agitated for land to provide a route for the construction of a southern railroad line running from East coast to West coast. A railroad line was eventually built and the first train arrived in Tucson in 1880. That train and others to follow brought many things not previously available to this desert region outpost. Among these items were pipe organs\, constructed by organ firms in the East.  \nIn this presentation we will have a look at these early instruments and all others that have come to the region up to the present time. This PowerPoint presentation will include many photographs of churches and organs\, as well as\, audio clips of the pipe organs. The presenter will be guild member David Gay. Visual and audio clips will be provided by guild member Stan Kartchner. \nThe photo on the right of the page is the 1903 Murray Harris Pipe Organ at Covenant Presbyterian Church in Bisbee\, AZ. This organ was one of the instruments extant in the period.
URL:https://saago.org/event/pipe-organs-of-the-gadsden-purchase/
LOCATION:Northminster Presbyterian Church\, 2450 E. Fort Lowell Rd.\, Tucson\, AZ\, 85719\, United States
END:VEVENT
BEGIN:VEVENT
DTSTART;TZID=America/Phoenix:20251012T140000
DTEND;TZID=America/Phoenix:20251012T160000
DTSTAMP:20260419T083352
CREATED:20251010T160617Z
LAST-MODIFIED:20251010T161059Z
UID:4889-1760277600-1760284800@saago.org
SUMMARY:"Walking In The Light" - Community Hymn Sing
DESCRIPTION:
URL:https://saago.org/event/walking-in-the-light-community-hymn-sing/
LOCATION:St. Andrew the Apostle Roman Catholic Church\, 800 Taylor Street\, Sierra Vista\, AZ\, 85635\, United States
END:VEVENT
BEGIN:VEVENT
DTSTART;TZID=America/Phoenix:20251012T143000
DTEND;TZID=America/Phoenix:20251012T170000
DTSTAMP:20260419T083352
CREATED:20250922T163308Z
LAST-MODIFIED:20250922T163331Z
UID:4850-1760279400-1760288400@saago.org
SUMMARY:St. Alban's Concert Series presents Renowned Organist Guy Whatley In Concert
DESCRIPTION:
URL:https://saago.org/event/st-albans-concert-series-presents-renowned-organist-guy-whatley-in-concert/
LOCATION:St. Alban’s Episcopal Church\, 3738 N Old Sabino Canyon Rd\, Tucson\, Arizona
END:VEVENT
BEGIN:VEVENT
DTSTART;TZID=America/Phoenix:20251031T193000
DTEND;TZID=America/Phoenix:20251031T220000
DTSTAMP:20260419T083352
CREATED:20251014T192315Z
LAST-MODIFIED:20251014T192640Z
UID:4910-1761939000-1761948000@saago.org
SUMMARY:A Spooktacular Halloween Evening @ The Fox Theatre! (10/31/25)
DESCRIPTION:
URL:https://saago.org/event/a-spooktacular-halloween-evening-the-fox-theatre-10-31-25/
LOCATION:FOX THEATER\, 17 West Congress Street\, Tucson\, Arizona\, 85701
END:VEVENT
END:VCALENDAR